BEGIN:VCALENDAR
VERSION:2.0
PRODID:spatie/icalendar-generator
DESCRIPTION:Events from Hinton Fish and Game Association
X-WR-CALDESC:Events from Hinton Fish and Game Association
REFRESH-INTERVAL;VALUE=DURATION:PT1440M
X-PUBLISHED-TTL:PT1440M
BEGIN:VTIMEZONE
TZID:America/Edmonton
BEGIN:DAYLIGHT
DTSTART:20240310T020000Z
TZOFFSETFROM:-0700
TZOFFSETTO:-0600
END:DAYLIGHT
BEGIN:STANDARD
DTSTART:20241103T020000Z
TZOFFSETFROM:-0600
TZOFFSETTO:-0700
END:STANDARD
BEGIN:DAYLIGHT
DTSTART:20250309T020000Z
TZOFFSETFROM:-0700
TZOFFSETTO:-0600
END:DAYLIGHT
END:VTIMEZONE
BEGIN:VTIMEZONE
TZID:UTC
BEGIN:STANDARD
DTSTART:20250725T082224Z
TZOFFSETFROM:+0000
TZOFFSETTO:+0000
END:STANDARD
END:VTIMEZONE
BEGIN:VEVENT
UID:743-45
DTSTAMP:20260421T082224Z
SUMMARY:Range’s 3\,4&amp;amp\;5 closed for NRL22 competition from 8:00am to 3
 :00 pm
LOCATION:
ORGANIZER;CN=Tim Hooey:MAILTO:timhooey77@gmail.com
DTSTART;TZID=America/Edmonton;VALUE=DATE:20240921
DTEND;TZID=America/Edmonton;VALUE=DATE:20240922
X-ALT-DESC;FMTTYPE=TEXT/HTML:<p>To Check Gun Range Availability\, Please ca
 ll Chris Watson at (780) 817-5684</p>\n
CATEGORIES:Available,  No Availability
URL;VALUE=URI:https://hintonfishandgame.ca/mc-events/ranges-345-closed-for-
 nrl22-competition-from-800am-to-300-pm-6/
METHOD:PUBLISH
END:VEVENT
END:VCALENDAR