BEGIN:VCALENDAR
VERSION:2.0
PRODID:spatie/icalendar-generator
DESCRIPTION:Events from Hinton Fish and Game Association
X-WR-CALDESC:Events from Hinton Fish and Game Association
REFRESH-INTERVAL;VALUE=DURATION:PT1440M
X-PUBLISHED-TTL:PT1440M
BEGIN:VTIMEZONE
TZID:America/Edmonton
BEGIN:DAYLIGHT
DTSTART:20250309T020000Z
TZOFFSETFROM:-0700
TZOFFSETTO:-0600
END:DAYLIGHT
BEGIN:STANDARD
DTSTART:20251102T020000Z
TZOFFSETFROM:-0600
TZOFFSETTO:-0700
END:STANDARD
END:VTIMEZONE
BEGIN:VTIMEZONE
TZID:UTC
BEGIN:STANDARD
DTSTART:20250723T170953Z
TZOFFSETFROM:+0000
TZOFFSETTO:+0000
END:STANDARD
END:VTIMEZONE
BEGIN:VEVENT
UID:867-81
DTSTAMP:20260419T170953Z
SUMMARY:Entire facility closure\, wild sheep foundation youth camp
LOCATION:
ORGANIZER;CN=Tim Hooey:MAILTO:timhooey77@gmail.com
DTSTART;TZID=America/Edmonton:20250809T000000
DTEND;TZID=America/Edmonton:20250809T010000
X-ALT-DESC;FMTTYPE=TEXT/HTML:
CATEGORIES:No Availability
URL;VALUE=URI:https://hintonfishandgame.ca/mc-events/entire-facility-closur
 e-wild-sheep-foundation-youth-camp/
METHOD:PUBLISH
END:VEVENT
END:VCALENDAR